BEGIN:VCALENDAR
VERSION:2.0
PRODID:-//Cetronia Ambulance Corps - Staging - ECPv6.15.20//NONSGML v1.0//EN
CALSCALE:GREGORIAN
METHOD:PUBLISH
X-WR-CALNAME:Cetronia Ambulance Corps - Staging
X-ORIGINAL-URL:http://staging.cetronia.org
X-WR-CALDESC:Events for Cetronia Ambulance Corps - Staging
REFRESH-INTERVAL;VALUE=DURATION:PT1H
X-Robots-Tag:noindex
X-PUBLISHED-TTL:PT1H
BEGIN:VTIMEZONE
TZID:UTC
BEGIN:STANDARD
TZOFFSETFROM:+0000
TZOFFSETTO:+0000
TZNAME:UTC
DTSTART:20210101T000000
END:STANDARD
END:VTIMEZONE
BEGIN:VEVENT
DTSTART;TZID=UTC:20230524T160000
DTEND;TZID=UTC:20230524T193000
DTSTAMP:20260425T161238
CREATED:20230227T175906Z
LAST-MODIFIED:20230406T154301Z
UID:10000208-1684944000-1684956600@staging.cetronia.org
SUMMARY:EMS for Children Day
DESCRIPTION:EMS Week is May 21 – 27\, 2023. This is a time when we celebrate our associates and educate the community on different topics. On Wednesday\, May 24 from 4 – 7 p.m. we will be having an event for children at our Joint Operating Center located at 4300 Broadway\, Allentown. We’ll have tours of our vehicles\, Andy the Ambulance\, food trucks\, activities and games\, music\, and more. The event is free to attend and will be located outdoors. In case of inclement weather\, we will be located in our Education Center. Registration is not required. Stop on out and say hi and grab a bite to eat from the food trucks!
URL:http://staging.cetronia.org/event/ems-for-children-day-2023/
LOCATION:Cetronia Ambulance Corps\, 4300 Broadway\, Allentown\, PA\, 18104\, United States
CATEGORIES:Community Events
ATTACH;FMTTYPE=image/png:http://staging.cetronia.org/wp-content/uploads/2023/02/Copy-of-EMS-for-Children-Day.png
ORGANIZER;CN="Cetronia Ambulance Corps":MAILTO:caceducation@cetronia.org
END:VEVENT
BEGIN:VEVENT
DTSTART;TZID=UTC:20230428T170000
DTEND;TZID=UTC:20230428T210000
DTSTAMP:20260425T161238
CREATED:20221227T163748Z
LAST-MODIFIED:20230406T154611Z
UID:10000123-1682701200-1682715600@staging.cetronia.org
SUMMARY:Casino Night on Broadway
DESCRIPTION:Cetronia Ambulance Corps invites you to take a chance and join us for an evening of fun! Bring your poker face- enjoy casino games\, music\, food\, signature cocktails\, tours\, raffles\, and more! \nDon’t gamble with your life\, support Cetronia Ambulance Corps! \nReserve your Ticket \nBecome a Sponsor
URL:http://staging.cetronia.org/event/casino-night-on-broadway-2023/
LOCATION:Cetronia Ambulance Corps\, 4300 Broadway\, Allentown\, PA\, 18104\, United States
CATEGORIES:Community Events,Fundraisers
ATTACH;FMTTYPE=image/png:http://staging.cetronia.org/wp-content/uploads/2022/12/CasinoNGT.png
ORGANIZER;CN="Cetronia Ambulance Corps":MAILTO:caceducation@cetronia.org
END:VEVENT
BEGIN:VEVENT
DTSTART;TZID=UTC:20221112T100000
DTEND;TZID=UTC:20221112T140000
DTSTAMP:20260425T161238
CREATED:20221020T155638Z
LAST-MODIFIED:20221020T160315Z
UID:10000116-1668247200-1668261600@staging.cetronia.org
SUMMARY:Health & Wellness Expo
DESCRIPTION:Come out for free health screenings or to explore the many different vendors. Learn hands-only CPR and basic Stop-the-Bleed methods or see a mock teen bedroom set-up provided by Center for Humanistic Change to learn about addiction behaviors. \nFree to attend with free parking available. \nDate: Saturday\, November 12\, 2022\nTime: 10 a.m. – 2 p.m.\nLocation: Cetronia Ambulance Corps\, 4300 Broadway\, Allentown\, PA 18104 \nThank you to our sponsors\, PPL Corporation and Lehigh Valley Health Network. \nInterested in exhibiting? Click here or contact Kim Blichar at blichark@cetronia.org or 610-530-5511. \n 
URL:http://staging.cetronia.org/event/health-wellness-expo/
LOCATION:Cetronia Ambulance Corps\, 4300 Broadway\, Allentown\, PA\, 18104\, United States
CATEGORIES:Community Events
ATTACH;FMTTYPE=image/png:http://staging.cetronia.org/wp-content/uploads/2022/09/HealthAndWellnessExpo.png
ORGANIZER;CN="Cetronia Ambulance Corps Special Events":MAILTO:blichark@cetronia.org
END:VEVENT
BEGIN:VEVENT
DTSTART;TZID=UTC:20221030T120000
DTEND;TZID=UTC:20221030T150000
DTSTAMP:20260425T161238
CREATED:20220817T190459Z
LAST-MODIFIED:20221021T182240Z
UID:10000195-1667131200-1667142000@staging.cetronia.org
SUMMARY:Health On Wheels Family Fest & Pickleball Paddle Battle
DESCRIPTION:Noon – 3 p.m. FREE to attend \nBring your little ghouls and goblins in costume for some trunk-or-treat fun provided by local businesses! \nAmbulance tours\, hands-only CPR\, trunk-or-treat\, food trucks\, face painting\, balloon clown\, bake sale\, 50/50\, music & more. \nPickleball Paddle Battle – $35 Entry Fee / Donation \nWear your Halloween costume for the chance to win prizes for best dressed! \n11:30 a.m. Registration\, court assignments & warmup\n11:55 a.m. Welcoming remarks & tournament kickoff\nNoon Round Robin 1\n1 p.m. Round Robin 2\n2 p.m. Round Robin 3\n3 p.m. Awards & closing remarks \nMust provide own paddle. Pickleballs will be provided. \nThank you to our sponsors: Lehigh Valley Health Network\, Coca-Cola Lehigh Valley\, and Commercial Acceptance Company.
URL:http://staging.cetronia.org/event/health-on-wheels-family-fest-pickleball-paddle-battle/
LOCATION:Cetronia Ambulance Corps\, 4300 Broadway\, Allentown\, PA\, 18104\, United States
CATEGORIES:Community Events,Fundraisers
ORGANIZER;CN="Cetronia Ambulance Corps Special Events":MAILTO:blichark@cetronia.org
END:VEVENT
BEGIN:VEVENT
DTSTART;TZID=UTC:20220613T090000
DTEND;TZID=UTC:20220613T150000
DTSTAMP:20260425T161238
CREATED:20220405T134908Z
LAST-MODIFIED:20220405T134908Z
UID:10000184-1655110800-1655132400@staging.cetronia.org
SUMMARY:South Whitehall Township Emergency Services Youth Camp
DESCRIPTION:JUNE 13 – 17\, 2022; 9 a.m. – 3 p.m.\n(6/17 will end after a family picnic and awards at noon)\nCamp is for ages 12 – 16 years old and is FREE! Camp is sponsored by Cetronia Ambulance Corps\, Cetronia Fire Company\, Greenawalds Fire/Rescue\, South Whitehall Police\, South Whitehall Emergency Management\, and Woodlawn Fire Department. A special thanks goes out to Upper Macungie Township Fire Department for their smokehouse training. Also\, Lehigh County Special Operations and Emergency Management\, Bethlehem Bomb Squad\, and LVHN MedEvac for their time and effort during the week. \nAs your “Health On Wheels” provider\, Cetronia Ambulance Corps has been saving lives and partnering with the community since 1955. The South Whitehall Township Emergency Services Camp will offer youth the opportunity to learn about the important role that public safety workers play in the community\, as well as provide a basic understanding for pursuing a fulfilling career in emergency services. \nOur youth programs are designed to offer a hands-on and exciting educational experience. Students will have the opportunity to participate in the following aspects of emergency services: \n\nLife Saving Skills\nCPR & First Aid\nVehicle Extrication & Rescue\nPolice & Fire K-9s\nBomb Squad\nSpecial Operations & Tech Rescue\nFire Fighting\nEmergency Communications\n\nMain location: Cetronia Ambulance Corps\, 4300 Broadway\, Allentown\, PA 18104 \nCampers will travel to different locations throughout the week. Transportation will be provided by Cetronia Ambulance Corps. A full schedule will be provided on the first day of camp. \nParticipants will be given a camp t-shirt on the first day and are to wear the shirt throughout the week. Lunch will also be provided each day. \nCamp enrollment is limited to 24 participants. \nUpon receipt of your registration\, you will receive a packet of information for the camp including forms that must be signed by the camper’s parent or legal guardian and returned prior to June 13. \nRegister today!
URL:http://staging.cetronia.org/event/south-whitehall-township-emergency-services-youth-camp/
LOCATION:Cetronia Ambulance Corps\, 4300 Broadway\, Allentown\, PA\, 18104\, United States
CATEGORIES:Community Events,Kids & Family
ORGANIZER;CN="Cetronia Ambulance Corps":MAILTO:caceducation@cetronia.org
END:VEVENT
BEGIN:VEVENT
DTSTART;TZID=UTC:20220521T080000
DTEND;TZID=UTC:20220521T170000
DTSTAMP:20260425T161238
CREATED:20220326T152449Z
LAST-MODIFIED:20220326T152449Z
UID:10000183-1653120000-1653152400@staging.cetronia.org
SUMMARY:Detective James Stanko Memorial PAL Softball Tournament
DESCRIPTION:Come on out an support the Allentown Police Athletic League. Watch some softball\, listen to some music\, grab some food\, or take your chance with the raffle.
URL:http://staging.cetronia.org/event/detective-james-stanko-memorial-pal-softball-tournament/
LOCATION:Percy Ruhe Park\, 1519 Oxford Dr.\, Allentown\, PA\, 18103\, United States
CATEGORIES:Community Events,Fundraisers,Kids & Family
ORGANIZER;CN="Allentown Police Athletic League":MAILTO:thomas.cunningham@allentownpa.gov
END:VEVENT
BEGIN:VEVENT
DTSTART;TZID=UTC:20220429T170000
DTEND;TZID=UTC:20220429T200000
DTSTAMP:20260425T161238
CREATED:20220302T175300Z
LAST-MODIFIED:20220302T175300Z
UID:10000180-1651251600-1651262400@staging.cetronia.org
SUMMARY:A Night On Broadway
DESCRIPTION:We invite you to A Night On Broadway taking place at our joint operations center at 4300 Broadway\, Allentown on Friday\, April 29\, 2022. We’ll have music\, food\, good cheer\, tours and maybe a celebrity sighting or two. We are pleased to announce Lehigh Valley Health Network as the Marquee Presenting Sponsor for the evening. \nTo reserve your ticket\, click here. Interested in becoming a sponsor to help support our lifesaving mission? Find out more details\, here.
URL:http://staging.cetronia.org/event/a-night-on-broadway/
LOCATION:Cetronia Ambulance Corps\, 4300 Broadway\, Allentown\, PA\, 18104\, United States
CATEGORIES:Community Events
ATTACH;FMTTYPE=image/png:http://staging.cetronia.org/wp-content/uploads/2022/03/Copy-of-Website-Flyer-1000-x-664.png
ORGANIZER;CN="Cetronia Ambulance Corps":MAILTO:caceducation@cetronia.org
END:VEVENT
END:VCALENDAR